BEGIN:VCALENDAR
VERSION:2.0
PRODID:-//SVP Wald //NONSGML Events //EN
CALSCALE:GREGORIAN
X-WR-CALNAME:SVP Wald
BEGIN:VEVENT
CREATED:20241202T104722Z
UID:1307
DTEND:20251117T200000
DTSTART:20251117T193000
DTSTAMP:20260423T194452Z
LOCATION:
DESCRIPTION:
SUMMARY:Parteiversammlung SVP Wald
ORGANIZER:SVP Wald
URL;VALUE=URI:https://www.svp-wald.ch/termine/parteiversammlung-svp-wald-4/
TRANSP:OPAQUE
END:VEVENT
END:VCALENDAR
